BEGIN:VCALENDAR
VERSION:2.0
CALSCALE:GREGORIAN
PRODID:adamgibbons/ics
METHOD:PUBLISH
X-PUBLISHED-TTL:PT1H
BEGIN:VEVENT
UID:-eDfGm1KcE1Jp85ep3Aix
SUMMARY:Opdatering for de første tre måneder af 2026
DTSTAMP:20260424T221931Z
DTSTART:20260501T080000Z
DTEND:20260501T100000Z
END:VEVENT
END:VCALENDAR
